BEGIN:VCALENDAR
VERSION:2.0
PRODID:-//Sophicity/Tribune/Berkeley Lake, GA
BEGIN:VEVENT
DTSTAMP:20260426T000047Z
UID:46c3333a-fe36-42a7-a970-cea612c3453b-4229
DTSTART:20260918T000000Z
DTEND:20260918T004500Z
LOCATION:City Hall
CLASS:PUBLIC
SUMMARY:9/17 Council Meeting 8 PM
END:VEVENT
END:VCALENDAR
