BEGIN:VCALENDAR
VERSION:2.0
PRODID:-//Sophicity/Tribune/Berkeley Lake, GA
BEGIN:VEVENT
DTSTAMP:20260426T000015Z
UID:46c3333a-fe36-42a7-a970-cea612c3453b-4228
DTSTART:20260917T230000Z
DTEND:20260917T234500Z
LOCATION:City Hall
CLASS:PUBLIC
SUMMARY:9/17 Council Work Session 7PM
END:VEVENT
END:VCALENDAR
