BEGIN:VCALENDAR
VERSION:2.0
PRODID:-//Sophicity/Tribune/Berkeley Lake, GA
BEGIN:VEVENT
DTSTAMP:20260425T222318Z
UID:46c3333a-fe36-42a7-a970-cea612c3453b-4227
DTSTART:20251219T000000Z
DTEND:20251219T004500Z
LOCATION:City Hall
CLASS:PUBLIC
SUMMARY:12/18 Council Work Session 7PM - CANCELED
END:VEVENT
END:VCALENDAR
