BEGIN:VCALENDAR
VERSION:2.0
PRODID:-//Sophicity/Tribune/Berkeley Lake, GA
BEGIN:VEVENT
DTSTAMP:20260425T192639Z
UID:46c3333a-fe36-42a7-a970-cea612c3453b-4213
DTSTART:20260618T230000Z
DTEND:20260618T234500Z
LOCATION:City Hall
CLASS:PUBLIC
SUMMARY:6/18 Council Work Session 7PM
END:VEVENT
END:VCALENDAR
