BEGIN:VCALENDAR
VERSION:2.0
PRODID:-//Sophicity/Tribune/Berkeley Lake, GA
BEGIN:VEVENT
DTSTAMP:20260426T012837Z
UID:46c3333a-fe36-42a7-a970-cea612c3453b-4209
DTSTART:20261015T230000Z
DTEND:20261015T234500Z
LOCATION:City Hall
CLASS:PUBLIC
SUMMARY:10/15 Council Work Session 7PM
END:VEVENT
END:VCALENDAR
