BEGIN:VCALENDAR
VERSION:2.0
PRODID:-//Sophicity/Tribune/Berkeley Lake, GA
BEGIN:VEVENT
DTSTAMP:20260426T012852Z
UID:46c3333a-fe36-42a7-a970-cea612c3453b-4208
DTSTART:20261120T000000Z
DTEND:20261120T004500Z
LOCATION:City Hall
CLASS:PUBLIC
SUMMARY:11/19 Council Work Session 7PM
END:VEVENT
END:VCALENDAR
