BEGIN:VCALENDAR
VERSION:2.0
PRODID:-//Sophicity/Tribune/Berkeley Lake, GA
BEGIN:VEVENT
DTSTAMP:20260426T012652Z
UID:46c3333a-fe36-42a7-a970-cea612c3453b-4207
DTSTART:20261120T010000Z
DTEND:20261120T014500Z
LOCATION:City Hall
CLASS:PUBLIC
SUMMARY:11/19 Council Meeting 8PM
END:VEVENT
END:VCALENDAR
