BEGIN:VCALENDAR
VERSION:2.0
PRODID:-//Sophicity/Tribune/Berkeley Lake, GA
BEGIN:VEVENT
DTSTAMP:20260426T000016Z
UID:46c3333a-fe36-42a7-a970-cea612c3453b-4201
DTSTART:20251104T120000Z
DTEND:20251105T000000Z
LOCATION:City Hall
CLASS:PUBLIC
SUMMARY:Election Day 11/4 7am-7pm
END:VEVENT
END:VCALENDAR
