BEGIN:VCALENDAR
VERSION:2.0
PRODID:-//Sophicity/Tribune/Berkeley Lake, GA
BEGIN:VEVENT
DTSTAMP:20260426T000016Z
UID:46c3333a-fe36-42a7-a970-cea612c3453b-4199
DTSTART:20251030T130000Z
DTEND:20251030T210000Z
LOCATION:City Hall
CLASS:PUBLIC
SUMMARY:Early Voting 10/30 9am-5pm
END:VEVENT
END:VCALENDAR
