BEGIN:VCALENDAR
VERSION:2.0
PRODID:-//Sophicity/Tribune/Berkeley Lake, GA
BEGIN:VEVENT
DTSTAMP:20260426T001045Z
UID:46c3333a-fe36-42a7-a970-cea612c3453b-4197
DTSTART:20251028T130000Z
DTEND:20251028T210000Z
LOCATION:City Hall
CLASS:PUBLIC
SUMMARY:Early Voting 10/28 9am-5pm
END:VEVENT
END:VCALENDAR
