BEGIN:VCALENDAR
VERSION:2.0
PRODID:-//Sophicity/Tribune/Berkeley Lake, GA
BEGIN:VEVENT
DTSTAMP:20260426T014157Z
UID:46c3333a-fe36-42a7-a970-cea612c3453b-4191
DTSTART:20251021T130000Z
DTEND:20251021T210000Z
LOCATION:City Hall
CLASS:PUBLIC
SUMMARY:Early Voting 10/21 9am-5pm
END:VEVENT
END:VCALENDAR
