BEGIN:VCALENDAR
VERSION:2.0
PRODID:-//Sophicity/Tribune/Berkeley Lake, GA
BEGIN:VEVENT
DTSTAMP:20260426T000016Z
UID:46c3333a-fe36-42a7-a970-cea612c3453b-4183
DTSTART:20250819T130000Z
DTEND:20250819T200000Z
LOCATION:City Hall
CLASS:PUBLIC
SUMMARY:Election Qualifying
END:VEVENT
END:VCALENDAR
