BEGIN:VCALENDAR
VERSION:2.0
PRODID:-//Sophicity/Tribune/Berkeley Lake, GA
BEGIN:VEVENT
DTSTAMP:20260425T222318Z
UID:46c3333a-fe36-42a7-a970-cea612c3453b-4165
DTSTART:20250109T230000Z
DTEND:20250110T000000Z
LOCATION:City Hall
CLASS:PUBLIC
SUMMARY:1/9 Special Called Council Meeting 6PM
END:VEVENT
END:VCALENDAR
