BEGIN:VCALENDAR
VERSION:2.0
PRODID:-//Sophicity/Tribune/Berkeley Lake, GA
BEGIN:VEVENT
DTSTAMP:20260426T000016Z
UID:46c3333a-fe36-42a7-a970-cea612c3453b-4162
DTSTART:20250814T230000Z
DTEND:20250814T234500Z
LOCATION:City Hall
CLASS:PUBLIC
SUMMARY:8/14 Special Called Council Work Session 7PM
END:VEVENT
END:VCALENDAR
