BEGIN:VCALENDAR
VERSION:2.0
PRODID:-//Sophicity/Tribune/Berkeley Lake, GA
BEGIN:VEVENT
DTSTAMP:20260426T012652Z
UID:46c3333a-fe36-42a7-a970-cea612c3453b-4161
DTSTART:20240823T000000Z
DTEND:20240823T004500Z
LOCATION:City Hall
CLASS:PUBLIC
SUMMARY:8/22 Special Called Council Meeting 8 PM
END:VEVENT
END:VCALENDAR
