BEGIN:VCALENDAR
VERSION:2.0
PRODID:-//Sophicity/Tribune/Berkeley Lake, GA
BEGIN:VEVENT
DTSTAMP:20260426T012723Z
UID:46c3333a-fe36-42a7-a970-cea612c3453b-4155
DTSTART:20240822T230000Z
DTEND:20240822T234500Z
LOCATION:City Hall
CLASS:PUBLIC
SUMMARY:8/22 Special Called Council Work Session 7PM
END:VEVENT
END:VCALENDAR
