BEGIN:VCALENDAR
VERSION:2.0
PRODID:-//Sophicity/Tribune/Berkeley Lake, GA
BEGIN:VEVENT
DTSTAMP:20260426T012623Z
UID:46c3333a-fe36-42a7-a970-cea612c3453b-4152
DTSTART:20231206T220000Z
DTEND:20231206T224500Z
LOCATION:City Hall
CLASS:PUBLIC
SUMMARY:12/6 Special Called Council Meeting 5 PM
END:VEVENT
END:VCALENDAR
