BEGIN:VCALENDAR
VERSION:2.0
PRODID:-//Sophicity/Tribune/Berkeley Lake, GA
BEGIN:VEVENT
DTSTAMP:20260425T222146Z
UID:46c3333a-fe36-42a7-a970-cea612c3453b-4151
DTSTART:20250718T000000Z
DTEND:20250718T004500Z
LOCATION:City Hall
CLASS:PUBLIC
SUMMARY:7/17 Council Meeting 8PM
END:VEVENT
END:VCALENDAR
