BEGIN:VCALENDAR
VERSION:2.0
PRODID:-//Sophicity/Tribune/Berkeley Lake, GA
BEGIN:VEVENT
DTSTAMP:20260425T222234Z
UID:46c3333a-fe36-42a7-a970-cea612c3453b-4150
DTSTART:20250717T230000Z
DTEND:20250717T234500Z
LOCATION:City Hall
CLASS:PUBLIC
SUMMARY:7/17 Council Work Session 7PM
END:VEVENT
END:VCALENDAR
