BEGIN:VCALENDAR
VERSION:2.0
PRODID:-//Sophicity/Tribune/Berkeley Lake, GA
BEGIN:VEVENT
DTSTAMP:20260426T030257Z
UID:46c3333a-fe36-42a7-a970-cea612c3453b-4144
DTSTART:20230826T140000Z
DTEND:20230826T160000Z
LOCATION:City Hall
CLASS:PUBLIC
SUMMARY:2024 Comprehensive Plan Update Public Meeting
END:VEVENT
END:VCALENDAR
