BEGIN:VCALENDAR
VERSION:2.0
PRODID:-//Sophicity/Tribune/Berkeley Lake, GA
BEGIN:VEVENT
DTSTAMP:20260426T014157Z
UID:46c3333a-fe36-42a7-a970-cea612c3453b-4137
DTSTART:20251017T000000Z
DTEND:20251017T004500Z
LOCATION:City Hall
CLASS:PUBLIC
SUMMARY:10/16 Council Meeting 8PM
END:VEVENT
END:VCALENDAR
