BEGIN:VCALENDAR
VERSION:2.0
PRODID:-//Sophicity/Tribune/Berkeley Lake, GA
BEGIN:VEVENT
DTSTAMP:20260426T000047Z
UID:46c3333a-fe36-42a7-a970-cea612c3453b-4134
DTSTART:20250821T230000Z
DTEND:20250821T234500Z
LOCATION:City Hall
CLASS:PUBLIC
SUMMARY:8/21 Council Work Session 7PM - CANCELED
END:VEVENT
END:VCALENDAR
