BEGIN:VCALENDAR
VERSION:2.0
PRODID:-//Sophicity/Tribune/Berkeley Lake, GA
BEGIN:VEVENT
DTSTAMP:20260426T013517Z
UID:46c3333a-fe36-42a7-a970-cea612c3453b-4132
DTSTART:20230721T000000Z
DTEND:20230721T004500Z
LOCATION:City Hall
CLASS:PUBLIC
SUMMARY:7/20  Council Meeting 8 PM - CANCELED
END:VEVENT
END:VCALENDAR
