BEGIN:VCALENDAR
VERSION:2.0
PRODID:-//Sophicity/Tribune/Berkeley Lake, GA
BEGIN:VEVENT
DTSTAMP:20260425T205147Z
UID:46c3333a-fe36-42a7-a970-cea612c3453b-4131
DTSTART:20250619T230000Z
DTEND:20250619T234500Z
LOCATION:City Hall
CLASS:PUBLIC
SUMMARY:6/19 Council Work Session 7PM
END:VEVENT
END:VCALENDAR
