BEGIN:VCALENDAR
VERSION:2.0
PRODID:-//Sophicity/Tribune/Berkeley Lake, GA
BEGIN:VEVENT
DTSTAMP:20260425T205042Z
UID:46c3333a-fe36-42a7-a970-cea612c3453b-4130
DTSTART:20250620T000000Z
DTEND:20250620T004500Z
LOCATION:City Hall
CLASS:PUBLIC
SUMMARY:6/19 Council Meeting 8 PM
END:VEVENT
END:VCALENDAR
