BEGIN:VCALENDAR
VERSION:2.0
PRODID:-//Sophicity/Tribune/Berkeley Lake, GA
BEGIN:VEVENT
DTSTAMP:20260425T192622Z
UID:46c3333a-fe36-42a7-a970-cea612c3453b-4124
DTSTART:20250320T230000Z
DTEND:20250320T234500Z
LOCATION:City Hall
CLASS:PUBLIC
SUMMARY:3/20 Council Work Session 7PM
END:VEVENT
END:VCALENDAR
