BEGIN:VCALENDAR
VERSION:2.0
PRODID:-//Sophicity/Tribune/Berkeley Lake, GA
BEGIN:VEVENT
DTSTAMP:20260425T205156Z
UID:46c3333a-fe36-42a7-a970-cea612c3453b-4122
DTSTART:20250221T000000Z
DTEND:20250221T004500Z
LOCATION:City Hall
CLASS:PUBLIC
SUMMARY:2/20 Council Work Session 7PM
END:VEVENT
END:VCALENDAR
