BEGIN:VCALENDAR
VERSION:2.0
PRODID:-//Sophicity/Tribune/Berkeley Lake, GA
BEGIN:VEVENT
DTSTAMP:20260426T031025Z
UID:46c3333a-fe36-42a7-a970-cea612c3453b-4113
DTSTART:20221202T010000Z
DTEND:20221202T014500Z
LOCATION:City Hall
CLASS:PUBLIC
SUMMARY:12/1 Special Called Council Meeting 8 PM
END:VEVENT
END:VCALENDAR
