BEGIN:VCALENDAR
VERSION:2.0
PRODID:-//Sophicity/Tribune/Berkeley Lake, GA
BEGIN:VEVENT
DTSTAMP:20260426T042847Z
UID:46c3333a-fe36-42a7-a970-cea612c3453b-4104
DTSTART:20230912T231500Z
DTEND:20230912T234500Z
LOCATION:City Hall
CLASS:PUBLIC
SUMMARY:Planning and Zoning Meeting 7:15 PM - CANCELED
END:VEVENT
END:VCALENDAR
