BEGIN:VCALENDAR
VERSION:2.0
PRODID:-//Sophicity/Tribune/Berkeley Lake, GA
BEGIN:VEVENT
DTSTAMP:20260426T001004Z
UID:46c3333a-fe36-42a7-a970-cea612c3453b-4100
DTSTART:20241220T010000Z
DTEND:20241220T014500Z
LOCATION:City Hall
CLASS:PUBLIC
SUMMARY:12/19 Council Meeting 8PM - CANCELED
END:VEVENT
END:VCALENDAR
