BEGIN:VCALENDAR
VERSION:2.0
PRODID:-//Sophicity/Tribune/Berkeley Lake, GA
BEGIN:VEVENT
DTSTAMP:20260426T000016Z
UID:46c3333a-fe36-42a7-a970-cea612c3453b-4098
DTSTART:20260907T040000Z
DTEND:20260908T035900Z
CLASS:PUBLIC
SUMMARY:Labor Day - City Hall Closed
END:VEVENT
END:VCALENDAR
