BEGIN:VCALENDAR
VERSION:2.0
PRODID:-//Sophicity/Tribune/Berkeley Lake, GA
BEGIN:VEVENT
DTSTAMP:20260425T192621Z
UID:46c3333a-fe36-42a7-a970-cea612c3453b-4097
DTSTART:20260703T040100Z
DTEND:20260704T035900Z
LOCATION:City Hall
CLASS:PUBLIC
SUMMARY:Independence Day Observed - City Hall Closed
END:VEVENT
END:VCALENDAR
