BEGIN:VCALENDAR
VERSION:2.0
PRODID:-//Sophicity/Tribune/Berkeley Lake, GA
BEGIN:VEVENT
DTSTAMP:20260426T012826Z
UID:46c3333a-fe36-42a7-a970-cea612c3453b-4096
DTSTART:20220614T000000Z
DTEND:20220614T004500Z
LOCATION:City Hall
CLASS:PUBLIC
SUMMARY:6/13 Special Called Council Meeting 8 PM
END:VEVENT
END:VCALENDAR
