BEGIN:VCALENDAR
VERSION:2.0
PRODID:-//Sophicity/Tribune/Berkeley Lake, GA
BEGIN:VEVENT
DTSTAMP:20260426T012723Z
UID:46c3333a-fe36-42a7-a970-cea612c3453b-4094
DTSTART:20250919T000000Z
DTEND:20250919T004500Z
LOCATION:City Hall
CLASS:PUBLIC
SUMMARY:9/18 Council Meeting 8PM - CANCELED
END:VEVENT
END:VCALENDAR
