BEGIN:VCALENDAR
VERSION:2.0
PRODID:-//Sophicity/Tribune/Berkeley Lake, GA
BEGIN:VEVENT
DTSTAMP:20260426T042632Z
UID:46c3333a-fe36-42a7-a970-cea612c3453b-4091
DTSTART:20220819T000000Z
DTEND:20220819T004500Z
LOCATION:City Hall
CLASS:PUBLIC
SUMMARY:8/18 Council Meeting 8PM
END:VEVENT
END:VCALENDAR
