BEGIN:VCALENDAR
VERSION:2.0
PRODID:-//Sophicity/Tribune/Berkeley Lake, GA
BEGIN:VEVENT
DTSTAMP:20260426T030318Z
UID:46c3333a-fe36-42a7-a970-cea612c3453b-4090
DTSTART:20220722T000000Z
DTEND:20220722T004500Z
LOCATION:City Hall
CLASS:PUBLIC
SUMMARY:7/21 Council Meeting 8PM - CANCELED
END:VEVENT
END:VCALENDAR
