BEGIN:VCALENDAR
VERSION:2.0
PRODID:-//Sophicity/Tribune/Berkeley Lake, GA
BEGIN:VEVENT
DTSTAMP:20260426T013509Z
UID:46c3333a-fe36-42a7-a970-cea612c3453b-4088
DTSTART:20250918T230000Z
DTEND:20250918T234500Z
LOCATION:City Hall
CLASS:PUBLIC
SUMMARY:9/18 Council Work Session 7PM - CANCELED
END:VEVENT
END:VCALENDAR
