BEGIN:VCALENDAR
VERSION:2.0
PRODID:-//Sophicity/Tribune/Berkeley Lake, GA
BEGIN:VEVENT
DTSTAMP:20260426T042659Z
UID:46c3333a-fe36-42a7-a970-cea612c3453b-4085
DTSTART:20220818T230000Z
DTEND:20220818T234500Z
LOCATION:City Hall
CLASS:PUBLIC
SUMMARY:8/18 Council Work Session 7PM
END:VEVENT
END:VCALENDAR
