BEGIN:VCALENDAR
VERSION:2.0
PRODID:-//Sophicity/Tribune/Berkeley Lake, GA
BEGIN:VEVENT
DTSTAMP:20260426T030238Z
UID:46c3333a-fe36-42a7-a970-cea612c3453b-4084
DTSTART:20220721T230000Z
DTEND:20220721T234500Z
LOCATION:City Hall
CLASS:PUBLIC
SUMMARY:7/21 Council Work Session 7PM - CANCELED
END:VEVENT
END:VCALENDAR
