BEGIN:VCALENDAR
VERSION:2.0
PRODID:-//Sophicity/Tribune/Berkeley Lake, GA
BEGIN:VEVENT
DTSTAMP:20260426T012724Z
UID:46c3333a-fe36-42a7-a970-cea612c3453b-4083
DTSTART:20220616T230000Z
DTEND:20220616T234500Z
LOCATION:City Hall
CLASS:PUBLIC
SUMMARY:6/16 Council Work Session 7PM - CANCELED
END:VEVENT
END:VCALENDAR
