BEGIN:VCALENDAR
VERSION:2.0
PRODID:-//Sophicity/Tribune/Berkeley Lake, GA
BEGIN:VEVENT
DTSTAMP:20260425T222209Z
UID:46c3333a-fe36-42a7-a970-cea612c3453b-4071
DTSTART:20220422T000000Z
DTEND:20220422T004500Z
LOCATION:City Hall
CLASS:PUBLIC
SUMMARY:4/21 Council Meeting 8PM
END:VEVENT
END:VCALENDAR
