BEGIN:VCALENDAR
VERSION:2.0
PRODID:-//Sophicity/Tribune/Berkeley Lake, GA
BEGIN:VEVENT
DTSTAMP:20260426T012735Z
UID:46c3333a-fe36-42a7-a970-cea612c3453b-4069
DTSTART:20251004T140000Z
DTEND:20251004T160000Z
LOCATION:City Hall
CLASS:PUBLIC
SUMMARY:Electronics Recycling and Drug Take Back
END:VEVENT
END:VCALENDAR
