BEGIN:VCALENDAR
VERSION:2.0
PRODID:-//Sophicity/Tribune/Berkeley Lake, GA
BEGIN:VEVENT
DTSTAMP:20260426T000015Z
UID:46c3333a-fe36-42a7-a970-cea612c3453b-4068
DTSTART:20220315T230000Z
DTEND:20220315T234500Z
LOCATION:City Hall
CLASS:PUBLIC
SUMMARY:3/15 Special Called Council Work Session 7PM
END:VEVENT
END:VCALENDAR
