BEGIN:VCALENDAR
VERSION:2.0
PRODID:-//Sophicity/Tribune/Berkeley Lake, GA
BEGIN:VEVENT
DTSTAMP:20260426T000015Z
UID:46c3333a-fe36-42a7-a970-cea612c3453b-4067
DTSTART:20220316T000000Z
DTEND:20220316T004500Z
LOCATION:City Hall
CLASS:PUBLIC
SUMMARY:3/15 Special Called Council Meeting 8 PM
END:VEVENT
END:VCALENDAR
