BEGIN:VCALENDAR
VERSION:2.0
PRODID:-//Sophicity/Tribune/Berkeley Lake, GA
BEGIN:VEVENT
DTSTAMP:20260426T000047Z
UID:46c3333a-fe36-42a7-a970-cea612c3453b-4066
DTSTART:20220318T000000Z
DTEND:20220318T004500Z
LOCATION:City Hall
CLASS:PUBLIC
SUMMARY:3/17 Council Meeting 7PM - Canceled
END:VEVENT
END:VCALENDAR
