BEGIN:VCALENDAR
VERSION:2.0
PRODID:-//Sophicity/Tribune/Berkeley Lake, GA
BEGIN:VEVENT
DTSTAMP:20260426T000017Z
UID:46c3333a-fe36-42a7-a970-cea612c3453b-4065
DTSTART:20220317T230000Z
DTEND:20220317T234500Z
LOCATION:City Hall
CLASS:PUBLIC
SUMMARY:3/17 Council Work Session - Canceled
END:VEVENT
END:VCALENDAR
