BEGIN:VCALENDAR
VERSION:2.0
PRODID:-//Sophicity/Tribune/Berkeley Lake, GA
BEGIN:VEVENT
DTSTAMP:20260425T222234Z
UID:46c3333a-fe36-42a7-a970-cea612c3453b-4058
DTSTART:20251224T050100Z
DTEND:20251226T045900Z
CLASS:PUBLIC
SUMMARY:Christmas Holidays - City Hall Closed
END:VEVENT
END:VCALENDAR
