BEGIN:VCALENDAR
VERSION:2.0
PRODID:-//Sophicity/Tribune/Berkeley Lake, GA
BEGIN:VEVENT
DTSTAMP:20260425T205147Z
UID:46c3333a-fe36-42a7-a970-cea612c3453b-4057
DTSTART:20260101T050100Z
DTEND:20260102T045900Z
CLASS:PUBLIC
SUMMARY:New Year's Holiday - City Hall Closed
END:VEVENT
END:VCALENDAR
