BEGIN:VCALENDAR
VERSION:2.0
PRODID:-//Sophicity/Tribune/Berkeley Lake, GA
BEGIN:VEVENT
DTSTAMP:20260426T014157Z
UID:46c3333a-fe36-42a7-a970-cea612c3453b-4048
DTSTART:20251014T220000Z
DTEND:20251014T233000Z
LOCATION:City Hall
CLASS:PUBLIC
SUMMARY:GT Urban Design Studio Commercial Corridor Master Plan Public Meeting
END:VEVENT
END:VCALENDAR
