BEGIN:VCALENDAR
VERSION:2.0
PRODID:-//Sophicity/Tribune/Berkeley Lake, GA
BEGIN:VEVENT
DTSTAMP:20260425T175621Z
UID:46c3333a-fe36-42a7-a970-cea612c3453b-4042
DTSTART:20260318T193000Z
DTEND:20260318T203000Z
LOCATION:City Hall
CLASS:PUBLIC
SUMMARY:Finance Committee Meeting
END:VEVENT
END:VCALENDAR
